
BEGIN:VCALENDAR
VERSION:2.0
PRODID:-//Book Hunter Lyceum - ECPv6.15.20//NONSGML v1.0//EN
CALSCALE:GREGORIAN
METHOD:PUBLISH
X-ORIGINAL-URL:https://bookhunterlyceum.org
X-WR-CALDESC:Sự kiện cho Book Hunter Lyceum
REFRESH-INTERVAL;VALUE=DURATION:PT1H
X-Robots-Tag:noindex
X-PUBLISHED-TTL:PT1H
BEGIN:VTIMEZONE
TZID:Asia/Krasnoyarsk
BEGIN:STANDARD
TZOFFSETFROM:+0700
TZOFFSETTO:+0700
TZNAME:+07
DTSTART:20210101T000000
END:STANDARD
END:VTIMEZONE
BEGIN:VEVENT
DTSTART;TZID=Asia/Krasnoyarsk:20220325T203000
DTEND;TZID=Asia/Krasnoyarsk:20220325T223000
DTSTAMP:20260421T061931
CREATED:20220323T111334Z
LAST-MODIFIED:20220323T111513Z
UID:7782-1648240200-1648247400@bookhunterlyceum.org
SUMMARY:Hỏi và Đáp Chuyên Gia #2: Cà phê đặc sản - Tiềm năng & xu hướng tại Việt Nam
DESCRIPTION:Từ những giáo sĩ truyền đạo đầu tiên mang theo hạt cà phê\, tới những đồn điền cà phê trải dài thời Pháp thuộc\, những năm tháng hoang tàn thời chiến và sự trỗi dậy bắt nhịp xu hướng cà phê công nghiệp\, cây cà phê có mặt tại Việt Nam chưa lâu\, nhưng thực sự đã trải qua một chặng đường với những câu chuyện đầy thú vị. Cà phê gắn với văn hóa đô thị ở Việt Nam\, đặc biệt là với đời sống của văn nghệ sĩ trí thức\, như một hình ảnh mang tính đại diện cho những trầm ngâm suy tư và năng suất của thời hiện đại.\n.\nNhưng\, một xu hướng mới đã xuất hiện: Cà phê đặc sản\, hay còn được gọi là Làn sóng cà phê thứ 3 trên thế giới. Làn sóng này làm thay đổi những nhận thức căn bản về cà phê. Và trong lúc chúng ta đang bận tâm với những biến động thế giới\, thì Cà Phê Đặc Sản trong hơn 10 năm qua đang từng bước đặt nền móng vững chắc tại Việt Nam.\n.\nCác bạn có thể hình dung một xu hướng văn hóa cà phê mới: khi caffeine không phải là động lực duy nhất để người ta uống cà phê; khi cà phê có những hương vị đặc trưng theo từng vùng và vươn lên ngang hàng với các sản phẩm thượng hạng khác như rượu vang\, trà\, dầu olive…; khi các nông trại cà phê không còn sử dụng phân bón hóa học và thuốc trừ sâu; khi những roaster (thợ rang)\, chủ nông trại\, chủ quán cà phê\, barista (người pha chế) thực sự phải là chuyên gia chứ không phải một công việc tạm bợ. Điều này chắc chắn sẽ góp phần thúc đẩy ngành cà phê chuyển mình nói riêng và tương lai của ngành nông nghiệp nói chung.\n.\nTrong sự kiện HỎI ĐÁP CHUYÊN MÔN #2\, Book Hunter & Bloom Coffee Roastery cùng nhau hợp tác tổ chức những chia sẻ mới về Cà phê đặc sản\, tiềm năng & xu hướng tại Việt Nam\, với hi vọng có thể giúp những bạn đang tìm hiểu về cà phê\, kinh doanh cà phê\, nghiên cứu xu hướng thị trường F&B…. hiểu rõ hơn về thực trạng & các câu chuyện của giới cà phê đặc sản.\n.\n\nDiễn giả: Roaster Phạm Tuấn Anh – Founder thương hiệu Bloom Coffee Roastery\, một trong các thương hiệu được đánh giá hàng đầu trong giới cà phê đặc sản Việt Nam hiện nay.\nThời gian: 20h30-22h30 tối Thứ Sáu 25/3/2022\nLink Google Meeting: https://meet.google.com/vga-xkxg-gfq
URL:https://bookhunterlyceum.org/su-kien/hoi-va-dap-chuyen-gia-2-ca-phe-dac-san-tiem-nang-xu-huong-tai-viet-nam/
CATEGORIES:Lịch trình tháng
ATTACH;FMTTYPE=image/jpeg:https://bookhunterlyceum.org/wp-content/uploads/2022/03/ca-phe-dac-san.jpg
END:VEVENT
BEGIN:VEVENT
DTSTART;TZID=Asia/Krasnoyarsk:20220318T213500
DTEND;TZID=Asia/Krasnoyarsk:20220318T230500
DTSTAMP:20260421T061931
CREATED:20220307T090535Z
LAST-MODIFIED:20220314T220426Z
UID:7768-1647639300-1647644700@bookhunterlyceum.org
SUMMARY:Sách & Đời #3: Thái độ của chính phủ Mỹ với Chiến tranh hạt nhân
DESCRIPTION:Nỗi ám ảnh về Chiến tranh hạt nhân không chỉ đe dọa các quốc gia đã từng là nạn nhân của những trận bom hạt nhân hay thử nghiệm vũ khí hạt nhân\, mà còn là nỗi ám ảnh của Mỹ – siêu cường hàng đầu thế giới\, quốc gia đi đầu trong vũ khí hạt nhân. Động thái của Nga trong chiến tranh xâm lược Ukraina hiện nay\, làm dấy lên một lần nữa\, dù không quá trầm trọng nhưng cũng đáng suy ngẫm về Chiến tranh hạt nhân\, và quan điểm của nước Mỹ – thái cực quan trọng nhất ảnh hưởng tới nguy cơ này. \n  \n\nDiễn giả: Nhà văn Hà Thủy Nguyên\nThời gian: 21h35 tối Thứ Sáu 18/3/2022\nTại Google Meeting: https://meet.google.com/vga-xkxg-gfq\n\n====== \nNhà văn Hà Thủy Nguyên là một trong hai người tổ chức đội ngũ dịch thuật và hiệu đính cuốn sử hiện đại NƯỚC MỸ CHUYỆN CHƯA KỂ của tác giả Peter Kuznick & Oliver Stone. Các dữ liệu được cung cấp trong bài nói chuyện được trích từ cuốn sách này. \nTìm hiểu thêm về sách: https://thebookhunter.org/?portfolio=nuoc-my-chuyen-chua-ke-cua-oliver-stone-va-peter-kuznick
URL:https://bookhunterlyceum.org/su-kien/sach-doi-3-thai-do-cua-chinh-phu-my-voi-chien-tranh-hat-nhan/
CATEGORIES:Lịch trình tháng
ATTACH;FMTTYPE=image/jpeg:https://bookhunterlyceum.org/wp-content/uploads/2022/03/chien-tranh-hat-nhan.jpg
END:VEVENT
BEGIN:VEVENT
DTSTART;TZID=Asia/Krasnoyarsk:20220318T193000
DTEND;TZID=Asia/Krasnoyarsk:20220318T213000
DTSTAMP:20260421T061931
CREATED:20220314T063222Z
LAST-MODIFIED:20220314T220241Z
UID:7774-1647631800-1647639000@bookhunterlyceum.org
SUMMARY:Chuyển đổi #3: Cạnh tranh nước lớn & tác động tới ASEAN
DESCRIPTION:Cuộc chiến Ukraina & Nga trong những ngày gần đây đã kéo theo hệ lụy lớn trên toàn cầu cả về mặt chính trị và kinh tế. Thậm chí\, cuộc chiến có khả năng sẽ trở thành một sự kiện lịch sử đánh dấu sự chuyển đổi trật tự thế giới sâu sắc. Bàn cờ thế giới đang phân cực một cách rõ rệt bởi động thái của các nước lớn\, và kéo theo đó là những biến động sâu sắc trong chính sách kinh tế & chính trị của các nước nhỏ\, trong số đó có các nước thuộc khối ASEAN. \n.\nTrong buổi Chuyển Đổi #3\, do Book Hunter tổ chức\, chúng ta sẽ cùng gặp gỡ TS Kinh tế học Phạm Sỹ Thành và NCS Ngô Di Lân để cùng lắng nghe và thảo luận về sự tác động của cuộc chiến tới đời sống kinh tế và xã hội của các nước ASEAN nói chung và Việt Nam nói riêng. Nội dung sẽ xoay quanh chính sách ngoại giao và thương mại của các cường quốc trong mối quan hệ với ASEAN. \n\nTrao đổi online tại Google Meeting: https://meet.google.com/vga-xkxg-gfq\n\n.\n=====\nĐể hiểu rõ hơn về các diễn giả\, các bạn có thể ghép thăm trang facebook cá nhân chính thức:\nTS Phạm Sỹ Thành: https://www.facebook.com/roark.cameron.9\nNCS Ngô Di Lân: https://www.facebook.com/Ngodilan
URL:https://bookhunterlyceum.org/su-kien/chuyen-doi-3-canh-tranh-nuoc-lon-tac-dong-toi-asean/
CATEGORIES:Lịch trình tháng
ATTACH;FMTTYPE=image/jpeg:https://bookhunterlyceum.org/wp-content/uploads/2022/03/canh-tranh-cac-nuoc-lon-asean-1.jpg
END:VEVENT
BEGIN:VEVENT
DTSTART;TZID=Asia/Krasnoyarsk:20220311T210000
DTEND;TZID=Asia/Krasnoyarsk:20220311T223000
DTSTAMP:20260421T061931
CREATED:20220226T111742Z
LAST-MODIFIED:20220228T120952Z
UID:7760-1647032400-1647037800@bookhunterlyceum.org
SUMMARY:Nam Phong #6: Tại sao biện hộ cho Paul Giran - Tác giả của "Tâm lý người An Nam"
DESCRIPTION:Ngày hôm nay dễ gây hiểu lầm khi bàn về Paul Giran\, người đã viết một công trình đầy tính phân biệt chủng tộc là “Tâm lý người An Nam” (1904)\, đã dịch rồi xuất bản năm 2019 gây nên đồng loạt phản đối\, tức giận\, khinh bỉ. Một người Pháp khác là triết gia Montesquieu tuy vậy biện hộ: “Tôi xin\, và chỉ sợ không được\, xin đừng phán xét qua chốc lát cả một việc làm của tôi trong 20 năm. Xin hãy tán thành hay phản đối toàn bộ cuốn sách\, chứ không phải chỉ một vài câu”. Lời của Montesquieu có thể nới rộng rồi dùng cho Paul Giran: xin đừng đánh giá ông chỉ qua một cuốn sách\, lại là cuốn đầu tay\, in lúc ông mới sang Việt Nam làm việc được 5 năm\, cho bằng qua cả những tác phẩm sau này\, có một tác phẩm đã được dịch là “Phù thuật và tín ngưỡng An Nam: nhập môn triết học văn minh của người An Nam” (1912). \n. \nCách làm này không quy tác giả chỉ vào một tác phẩm và như một kiến thức đã được vật hoá nó thuộc về quá khứ đã xa\, không thiết thân với những cá nhân ngày hôm nay. Ngược lại\, người nói muốn kéo tác giả về hiện tại\, chỉ xét nội tại bản thân hai tác phẩm là “Tâm lý người An Nam” và “Phù thuật và tín ngưỡng An Nam”\, từ đó làm lộ cái khó và nỗ lực thay đổi phương pháp cùng thái độ nơi ông\, thứ buộc những cá nhân hôm nay phải chú ý\, cảm nhận\, suy nghĩ. \n. \nBài nói thuộc chuỗi tác phẩm chân dung những cá nhân sống tại Việt Nam trong thế kỷ XX của người nói\, dựa trên trực giác về những khả năng đã được tích luỹ trong quá khứ (chỉ về phương pháp\, do nguồn lực hạn chế) nhưng chưa được nhìn nhận\, và có thể đi vào tồn tại ngày hôm nay. Người nói từ đó mời gọi những diễn giải không chỉ về những tác phẩm trong quá khứ\, cho bằng bản thân cách diễn giải của người nói. Một tác phẩm sẽ còn sống nếu còn được diễn giải. \n\nThời gian: 21h00 Thứ Sáu 11/3/2022\nTại Google Meeting: https://meet.google.com/vga-xkxg-gfq\n\n. \n5 tác phẩm trong chuỗi chân dung của diễn giả: \n\n“Kinh Thi Việt Nam” ngày hôm nay [về Trương Tửu] (tháng Mười hai 2018 & tháng Năm – tháng Sáu 2019)\nPhan Khôi năm 30 tuổi (tháng Chín 2019)\nMột nền giáo dục lý tưởng [về Thái Phỉ] (tháng Hai 2020] \nTừ Đoàn Văn Chúc (tháng Tám 2021) \nBiện hộ cho Paul Giran (tháng Mười hai 2021 – tháng Một 2022) \n\n. \n2/ Giới thiệu về diễn giả \n. \nĐăng Thành\, sinh năm 1996\, nghiên cứu độc lập về cách tiếp cận cấu trúc luận trong khoa học xã hội của ba nhân vật 1) Marx 2) Levi-Strauss 3) Phan Ngọc. \nWebsite của diễn giả: https://dangthanhsite.wordpress.com
URL:https://bookhunterlyceum.org/su-kien/nam-phong-6-tai-sao-bien-ho-cho-paul-giran-tac-gia-cua-tam-ly-nguoi-an-nam/
CATEGORIES:Lịch trình tháng
ATTACH;FMTTYPE=image/png:https://bookhunterlyceum.org/wp-content/uploads/2022/02/Giafu-va-ngheo-1.png
END:VEVENT
BEGIN:VEVENT
DTSTART;TZID=Asia/Krasnoyarsk:20220304T210000
DTEND;TZID=Asia/Krasnoyarsk:20220304T223000
DTSTAMP:20260421T061931
CREATED:20220226T111150Z
LAST-MODIFIED:20220226T111150Z
UID:7757-1646427600-1646433000@bookhunterlyceum.org
SUMMARY:GIAO #15: Hành trình của chủ thể trong ma trận diễn ngôn- Dưới góc nhìn của Jacques Lacan
DESCRIPTION:Chủ nghĩa cá nhân luôn thúc đẩy con người “hãy sống là chính mình” và “hãy tự do làm những điều mình muốn” trước muôn vàn áp lực và chi phối của xã hội\, nhưng vẫn chưa có câu trả lời thuyết phục cho câu hỏi “tôi thực sự là ai?” Trong buổi nói chuyện “Hành trình của chủ thể trong ma trận diễn ngôn – dưới góc nhìn của Jacques Lacan\,” chúng ta sẽ cùng chủ thể [subject] đi tìm câu trả lời “tôi là ai.” Thuyết Phân tâm học [Psychoanalytic Theory] của Lacan sẽ đem đến chúng ta từ ngạc nhiên này đến ngạc nhiên khác khi nhận định rằng tôi không phải là tôi: tôi là chủ thể [$] đang lưu lạc trong cõi Tượng [the Symbolic] của Vô thức [the Unconscious] để tìm lại chính mình. \n. \n\nThời gian: 21h00 Thứ Sáu 4/3/2022\nTại Google Meeting: https://meet.google.com/vga-xkxg-gfq\n\n========= \nThông tin về diễn giả: \n. \nDiễn giả Nguyễn Thúc Cường hiện nay đang là nghiên cứu sinh chuyên ngành Chính trị học và Quan hệ quốc tế trường đại học Mcgill ở Canada. Chủ đề nghiên cứu tiến sĩ về sự hình thành của chủ nghĩa dân tộc và phong trào xã hội dân sự ở Việt Nam hậu Đổi Mới dưới góc nhìn của thuyết diễn ngôn hậu cấu trúc\, thuyết xã hội học của Pierre Bourdieu & Anthony Giddens\, và thuyết phân tâm học của Jacques Lacan.
URL:https://bookhunterlyceum.org/su-kien/giao-15-hanh-trinh-cua-chu-the-trong-ma-tran-dien-ngon-duoi-goc-nhin-cua-jacques-lacan/
CATEGORIES:Lịch trình tháng
ATTACH;FMTTYPE=image/png:https://bookhunterlyceum.org/wp-content/uploads/2022/02/Giafu-va-ngheo.png
END:VEVENT
BEGIN:VEVENT
DTSTART;TZID=Asia/Krasnoyarsk:20220225T210000
DTEND;TZID=Asia/Krasnoyarsk:20220225T223000
DTSTAMP:20260421T061931
CREATED:20220130T140130Z
LAST-MODIFIED:20220130T141617Z
UID:7643-1645822800-1645828200@bookhunterlyceum.org
SUMMARY:Sách & Đời #2: Đạo đức trong tương giao - Tình bạn\, hợp tác & hữu nghị trong thời đại mới
DESCRIPTION:Trong tác phẩm kinh điển “Luân Lý học”\, triết gia Hy Lạp vĩ đại Aristotle không chỉ bàn rất nhiều về phẩm hạnh\, công lý\, hạnh phúc… ông còn bàn rất nhiều đến sự TƯƠNG GIAO tức tình bạn\, tình hữu nghị. Sự tương giao không phải đơn giản là mối quan hệ giữa người với người\, mà là mối quan hệ ngang bằng mà thỏa mãn được nhu cầu từ hai phía. Ở thời đại mới\, khi các mối quan hệ rộng mở hơn\, khi nhu cầu tương giao ngày càng lớn không chỉ giữa cá nhân với cá nhân\, tổ chức với tổ chức mà còn quốc gia với quốc gia\, thì một lần nữa những triết luận về đạo đức trong tương giao của Aristotle cần được hiểu rõ và bàn luận. \n\nTrong buổi Sách & Đời #2\, dịch giả Lê Duy Nam sẽ chia sẻ về Đạo đức trong Tương Giao trong “Luân lý học” của Aristotle. Qua đó\, chúng ta cùng nhau thảo luận về mối quan hệ tương giao trong thời đại của chúng ta và những vấn đề phải đối mặt\, đồng thời tự phản tư về bản thân trong các mối quan hệ. \n\nThời gian: 21h00 Thứ Sáu 25/2/2022\nTại Google Meeting: https://meet.google.com/vga-xkxg-gfq\n\n===== \nVề Lê Duy Nam: \n\nAdmin & trưởng nhóm dịch Book Hunter\nTổ chức dịch & chịu trách nhiệm nội dung các sách:\n\nChiến thắng của đô thị – Edward Glaeser (2019\, NXB Hội Nhà Văn)\nCác hệ thống bầu cử & dân chủ – Jared Diamond chủ biên (2016\, chưa xuất bản\, đã đăng công khai trên FoxStudy)\nTập tiểu luận Nghệ thuật & Thợ thủ công – Oscar Wilde (2019\, NXB Hội Nhà Văn)\nRumi tinh tuyệt – Bản tiếng Anh của Coleman Barks (2019\, NXB Hội Nhà Văn)\nLuân Lý Học – Aristotle (2020\, NXB Đà Nẵng)\nNước Mỹ chuyện chưa kể – Oliver Stone & Peter Kuznick (2020\, NXB Đà Nẵng)\nKinh tế học thiêng liêng – Charles Eisenstein (2021\, NXB Đà Nẵng)\n\n\n\n\n\n\n\n\n\n\n\n\n 
URL:https://bookhunterlyceum.org/su-kien/sach-doi-2-dao-duc-trong-tuong-giao-tinh-ban-hop-tac-huu-nghi-trong-thoi-dai-moi/
CATEGORIES:Lịch trình tháng
ATTACH;FMTTYPE=image/jpeg:https://bookhunterlyceum.org/wp-content/uploads/2022/01/giau-va-ngheo.jpg
ORGANIZER;CN="Book Hunter Lyceum":MAILTO:admin@thebookhunter.org
END:VEVENT
BEGIN:VEVENT
DTSTART;TZID=Asia/Krasnoyarsk:20220218T210000
DTEND;TZID=Asia/Krasnoyarsk:20220218T220000
DTSTAMP:20260421T061931
CREATED:20220212T183749Z
LAST-MODIFIED:20220215T163931Z
UID:7749-1645218000-1645221600@bookhunterlyceum.org
SUMMARY:GIAO #14: Tiếng Ồn - Hung thần hủy hoại sức khỏe
DESCRIPTION:Trong nhiều năm nay\, tiếng ồn tại các khu dân cư\, dù ở nông thôn hay thành thị\, đang trở thành vấn nạn xã hội. Tiếng ồn không chỉ gây khó chịu hay là một vấn đề của văn hóa\, mà cũng giống như ô nhiễm không khí\, dịch bệnh\, thực phẩm bẩn… đang từng ngày hủy hoại sức khỏe của chúng ta một cách thầm lặng.\n\nTừ năm 2020\, Book Hunter đã vận động chiến dịch loại bỏ tiếng ồn trong khu dân cư\, cùng lúc ấy\, chính quyền tại Hà Nội và Thành phố Hồ Chí Minh cũng bắt đầu lưu tâm đến vấn đề gây ồn tại các khu dân cư. Tuy rằng quy định liên quan đến tiếng ồn đã tồn tại trong các văn bản pháp lý\, thế nhưng đến nay\, người dân vẫn chưa ý thức được vấn đề này và các cơ quan hành pháp tại địa phương vẫn chưa triệt để thực thi. Do đó\, chúng tôi quyết định tiếp tục đẩy mạnh vận động TRIỆT ĐỂ LOẠI BỎ TIẾNG ỒN TRONG KHU DÂN CƯ THEO QUY ĐỊNH CỦA PHÁP LUẬT.\n\nSự kiện TIẾNG ỒN – HUNG THẦN HỦY HOẠI SỨC KHỎE là hoạt động mở đầu cho chiến dịch mới liên quan đến loại bỏ tiếng ồn của chúng tôi. Trong sự kiện này\, diễn giả Sophia Ngo sẽ chia sẻ với các bạn về những tác hại của tiếng ồn đến sức khỏe đã được các nhà nghiên cứu khoa học khẳng định.\n\nThời gian: 21h00 Thứ Sáu 18/02/2022\nTại Google Meeting: https://meet.google.com/vga-xkxg-gfq\n\nTìm hiểu về dự án & các quy định pháp luật về tiếng ồn: https://foxstudy.org/san-pham/triet-de-loai-bo-tieng-on-theo-quy-dinh-cua-phap-luat/ \n=====\nHiện nay\, chúng tôi đang tổ chức dịch thuật các nghiên cứu khoa học về tác hại của TIẾNG ỒN\, và video hóa các nội dung để phổ biến. Nếu các bạn thấy hoạt động này là hữu ích\, hãy donate cho chúng tôi theo thông tin tài khoản sau:\n.\nChủ tài khoản: Lê Duy Nam\n+ Vietcombank 0011004271240\, Thanh Xuân\, Hà Nội\n+ Sacombank 020062263084\, Thanh Xuân\, Hà Nội\n+ ACB 209265419\, Hai Bà Trưng\, Hà Nội\n+ Paypal: info.bookhunter@gmail.com\n\nChúng tôi xin được mô tả các hoạt động cụ thể và các khoản chi tài chính dự kiến là 15.000.000 VNĐ như sau:\n– Dịch thuật các bài nghiên cứu khoa học về tác hại của tiếng ồn: 5.000.000 VNĐ (10 bài).\n– Sản xuất video tuyên truyền về tác hại của tiếng ồn: 10.000.000 VNĐ (10 video)\n\nVideo & Bài viết đều thuộc về cộng đồng\, nên các kênh khác đều có thể copy để đăng tải trên nền tảng của mình\, chỉ cần ghi rõ nguồn bài tiếng Anh và tên dịch giả\, tên đội ngũ sản xuất video.\n\nToàn bộ khoản ủng hộ sẽ được chi trả cho đội ngũ dịch giả\, sản xuất video\, biên tập.\n\nXin cảm ơn các bạn!
URL:https://bookhunterlyceum.org/su-kien/giao-14-tieng-on-hung-than-huy-hoai-suc-khoe/
CATEGORIES:Lịch trình tháng
ATTACH;FMTTYPE=image/jpeg:https://bookhunterlyceum.org/wp-content/uploads/2022/02/tieng-on.jpg
ORGANIZER;CN="Book Hunter Lyceum":MAILTO:admin@thebookhunter.org
END:VEVENT
BEGIN:VEVENT
DTSTART;TZID=Asia/Krasnoyarsk:20220213T210000
DTEND;TZID=Asia/Krasnoyarsk:20220213T220000
DTSTAMP:20260421T061931
CREATED:20220207T090035Z
LAST-MODIFIED:20220207T090947Z
UID:7726-1644786000-1644789600@bookhunterlyceum.org
SUMMARY:Hỏi & Đáp Chuyên Môn #1: Người trẻ đeo đuổi dịch thuật
DESCRIPTION:Trong quá trình học tập và mở mang của mỗi người trẻ\, dịch thuật là một trong những con đường để vững chắc để ta hiểu hơn một lĩnh vực hay chủ đề nào đó. Người trẻ đeo đuổi dịch thuật có sự hạn chế của kinh nghiệm nhưng lợi thế chính là khát khao hiểu biết vô vị lợi và không giới hạn.\n.\nMởi đầu chuỗi Hỏi & Đáp Chuyên Môn\, chúng ta hãy cùng nhau nghe những chia sẻ của dịch giả Lê Duy Nam\, admin của Book Hunter.\n\nThời gian: 21h00 Chủ Nhật 13/2/2022\nTại Google Meeting: https://meet.google.com/vga-xkxg-gfq\n\n=====\nDịch giả Lê Duy Nam với vai trò tổ chức đội ngũ dịch thuật và đảm bảo chất lượng dịch thuật của Book Hunter từ năm 2016 đến nay\, đã từng bước mô hình hóa và cải thiện quy trình dịch\, minh chứng là những tác phẩm dịch của Book Hunter dù chưa hoàn hảo nhưng nhận được nhiều ủng hộ từ bạn đọc. Và dịch giả Lê Duy Nam vẫn luôn tự nhủ rằng bản dịch của mình không hoàn hảo mà luôn cải thiện sau mỗi lần tái bản.\n.\nHiện dịch giả Lê Duy Nam là người hướng dẫn chính thức trong chương trình Tutoring 1-1: Dịch thuật Anh – Việt của Book Hunter.\nTìm hiểu thêm: \n.\nTrong buổi Hỏi & Đáp này\, chúng ta sẽ cùng nhau thảo luận các vấn đề:\n– Làm sao để Đọc & Hiểu đúng nội dung của tác giả?\n– Xử lý tình huống khi gặp những khái niệm không có trong tiếng Việt.\n– Khi bạn đọc chỉ ra những lỗi sai trong dịch thuật\, chúng ta nên có những thái độ như thế nào?\n… và nhiều vấn đề khác trong Dịch thuật!
URL:https://bookhunterlyceum.org/su-kien/nguoi-tre-deo-duoi-dich-thuat/
CATEGORIES:Lịch trình tháng
ATTACH;FMTTYPE=image/jpeg:https://bookhunterlyceum.org/wp-content/uploads/2022/02/nguoi-tre-theo-duoi-dich-thuat.jpg
ORGANIZER;CN="Book Hunter Lyceum":MAILTO:admin@thebookhunter.org
END:VEVENT
BEGIN:VEVENT
DTSTART;TZID=Asia/Krasnoyarsk:20220211T210000
DTEND;TZID=Asia/Krasnoyarsk:20220211T223000
DTSTAMP:20260421T061931
CREATED:20220130T103113Z
LAST-MODIFIED:20220130T103348Z
UID:7639-1644613200-1644618600@bookhunterlyceum.org
SUMMARY:Chuyển đổi #2: Từ bitcoin đến blockchain - Chuyển dịch xã hội & Tiềm năng của Việt Nam
DESCRIPTION:Từ khi bitcoin xuất hiện\, thế giới đã thay đổi\, tuy không đạt được kì vọng MÀ những chuyên gia công nghệ mong muốn trong sự thay đổi tiền tệ trên thế giới\, nhưng đã mở đường cho công nghệ blockchain ngày càng phát triển. Đến nay\, blockchain đã được ứng dụng và đang từng bước tạo ra các chuyển dịch xã hội\, giúp sự trao đổi nhanh hơn\, chính xác hơn và hệ thống hơn. Blockchain thực sự là tương lai của kinh tế và vận hành xã hội trong thời đại mới.  \nTrong sự kiện Chuyển Đổi #2\, chúng ta sẽ cùng gặp gỡ Paven Thuật Đỗ\, chuyên gia về Blockchain và Bitcoin\, hiện đang theo học Tiến sĩ tại Đại học Khoa học và Công nghệ Hồng Kông\, để cùng tìm hiểu về vai trò của bitcoin và blockchain trong sự chuyển dịch xã hội và tiềm năng của Việt Nam.  \n\nThời gian: 21h00 Thứ Sáu 11/2/2022 \nTại Google Meeting: https://meet.google.com/vga-xkxg-gfq\n\n=====  \nVề Paven Thuật Đỗ: Paven Thuật Đỗ hiện đang theo học Tiến sĩ tại Đại học Khoa học và Công nghệ Hồng Kông. Anh đã bắt đầu nghiên cứu sâu rộng về cơ chế đồng thuận Blockchain\, thiết kế kiến ​​trúc và kinh tế token từ năm 2017\, xuất bản một số bài báo nghiên cứu trên các hội nghị quốc tế của Hiệp hội máy tính thế giới ACM. Anh đã tham gia tư vấn và tham gia với tư cách là nhà nghiên cứu Blockchain trong nhiều dự án liên quan tại Hồng Kông và Việt Nam. Vào đầu năm 2021\, anh đồng sáng lập Spores Network với tư cách là CTO quản lý nhóm công nghệ gồm 20 kỹ sư để xây dựng sàn trao đổi tài sản NFT đa chuỗi. Dự án được định vị để trở thành một thị trường NFT hàng đầu ở Châu Á. Rất tin tưởng vào tương lai rực rỡ của Internet2.0 và Web3 dựa trên Blockchain\, niềm đam mê của anh là xây dựng cơ sở hạ tầng và các giao thức Blockchain\, đưa các ứng dụng của chúng vào cuộc sống thực và tạo ra giá trị mới cho xã hội. Đầu năm 2022\, Paven đảm nhận vị trí Giám đốc phát triển của FPT Blockchain Lab\, nhằm mục tiêu xây dựng nền tảng hạ tầng Blockchain cho doanh nghiệp nội địa và vươn ra thị trường toàn cầu.
URL:https://bookhunterlyceum.org/su-kien/chuyen-doi-2-tu-bitcoin-den-blockchain-chuyen-dich-xa-hoi-tiem-nang-cua-viet-nam/
CATEGORIES:Lịch trình tháng
ATTACH;FMTTYPE=image/jpeg:https://bookhunterlyceum.org/wp-content/uploads/2022/01/tu-bitcoin-den-blockchain.jpg
ORGANIZER;CN="Book Hunter Lyceum":MAILTO:admin@thebookhunter.org
END:VEVENT
BEGIN:VEVENT
DTSTART;TZID=Asia/Krasnoyarsk:20220204T210000
DTEND;TZID=Asia/Krasnoyarsk:20220204T223000
DTSTAMP:20260421T061931
CREATED:20220130T092003Z
LAST-MODIFIED:20220130T142751Z
UID:7626-1644008400-1644013800@bookhunterlyceum.org
SUMMARY:Nam Phong #5: Mối quan hệ Giàu & Nghèo trong văn hóa Việt
DESCRIPTION:Người Việt ta có câu: “Số giàu tay trắng cũng giàu/ Số nghèo chín đụn mười trâu cũng nghèo”.\n\nDường như trong tâm thức của người Việt xưa\, chuyện giàu – nghèo được quy định bởi số phận. Và bởi thế\, sự xung đột giàu nghèo lại trở thành một yếu tố hiển nhiên trong văn hóa Việt Nam. Trong sự kiện Nam Phong lần này\, chúng ta sẽ cùng nhau bàn về mối quan hệ phức tạp\, vừa nương tựa lẫn nhau\, vừa luôn tìm cách triệt hạ nhau\, vừa đố kị nhau nhưng lại vừa khao khát có những lợi thế của nhau. Mối quan hệ này sẽ được xem xét qua lịch sử các nhóm dân cư\, văn học dân gian\, văn học viết trung đại & hiện đại\, và chắc chắn sẽ đề cập đến những biến chuyển lịch sử trong thế kỷ 20.\n\nDiễn giả: Nhà văn Hà Thủy Nguyên\nThời gian: 21h00 Thứ Sáu 4/2/2022\nTrao đổi Online qua Google Meeting: https://meet.google.com/vga-xkxg-gfq\n\n===== \nVề Hà Thủy Nguyên: \n\nNhà văn tự do\, founder & admin của Book Hunter.\n\nCác chủ đề quan tâm: Văn hóa & cơ cấu xã hội Việt Nam\, lịch sử tôn giáo\, lịch sử nghệ thuật\, lịch sử văn họ\n\n\n\n\nTổ chức dịch & chịu trách nhiệm nội dung các sách:\n\nRumi tinh tuyệt – Bản tiếng Anh của Coleman Barks (2020\, NXB Hội Nhà Văn)\nNước Mỹ chuyện chưa kể – Oliver Stone & Peter Kuznick (2020\, NXB Đà Nẵng\, Book Hunter dịch)\nBộ sách tranh Những vệ thần của tuổi thơ – Willam Joyce (2021\, NXB Đà Nẵng\, Lily dịch)\nBhagavad Gita – Bản tiếng Anh của Paramananda (2021\, NXB Đà Nẵng\, Sophia Ngo dịch)\n\n\n\n\nSáng tác các sách:\n\nTiểu thuyết dã sử bối cảnh thời Lý: Điệu nhạc trần gian (2004\, NXB Phụ Nữ)\nTiểu thuyết dã sử bối cảnh thời Lê Sơ: Cầm thư quán (2008\, NXB Phụ Nữ – Tái bản 2018\, NXB Hội Nhà Văn)\nTiểu thuyết kì ảo & khoa học viễn tưởng: Thiên Mã (2009\, NXB Kim Đồng)\nTập truyện ngắn kì ảo: Bên kia cánh cửa (2013\, NXB Lao Động & Bách Việt)\nTập thơ Mùa dã cổ (2016\, NXB Hội Nhà Văn)\nTiểu thuyết dã sử bối cảnh thời Lê Mạt: Thiên địa phong trần – phần 1 Khúc cung oán (2018\, NXB Hội Nhà Văn)\nTập thơ Nằm xem sao rụng (2020\, NXB Hội Nhà Văn)\n\n\n\n\nBiên kịch các dự án truyền hình:\n\nPhim truyền hình Đi về phía mặt trời (HTV9\, Đạo diễn Lưu Trọng Ninh): phim về những chuyển đổi về lối sống của giới trẻ\nPhim truyền hình Vòng Nguyệt Quế (VTV1\, Đạo diễn Mai Hồng Phong): phim về giới văn nghệ sĩ & thị trường sách trong thời đại mới\nPhim truyền hình Blog Nàng Dâu (VTV3\, Đạo diễn Mai Hồng Phong): phim về nghề ẩm thực và mối quan hệ mẹ chồng nàng dâu\nPhim truyền hình Nếp Nhà (VTV1\, Đạo diễn Đỗ Trường Khoa): phim về lối sống của người Hà Nội xưa và nay\nPhim hoạt hình Chíp Bông Bi Nhông (VTV24\, Đạo diễn Đỗ Đức Thành): phim khoa học viễn tưởng
URL:https://bookhunterlyceum.org/su-kien/nam-phong-5-moi-quan-he-giau-ngheo-trong-van-hoa-viet/
CATEGORIES:Lịch trình tháng
ATTACH;FMTTYPE=image/jpeg:https://bookhunterlyceum.org/wp-content/uploads/2022/01/moi-quan-he-giau-va-ngheo-trong-van-hoa-viet.jpg
ORGANIZER;CN="Book Hunter Lyceum":MAILTO:admin@thebookhunter.org
END:VEVENT
END:VCALENDAR